BEGIN:VCALENDAR
VERSION:2.0
PRODID:-//AudioTheme 2.0.1
BEGIN:VEVENT
UID:urn:uuid:3ee90e3e-a7f8-4ed6-8dd3-476e1d5c49ab
URL:https://sweethearts.com.au/shows/porretta-soul-festival/
DTSTART;TZID=GMT:20190718T000000
SUMMARY:Porretta Soul Festival
LOCATION:Porretta Soul Festival\, Rufus Thomas Park\, Porretta\, Italy
END:VEVENT
END:VCALENDAR
