BEGIN:VCALENDAR
VERSION:2.0
PRODID:-//AudioTheme 2.0.1
BEGIN:VEVENT
UID:urn:uuid:c458d35c-8258-4f98-915d-8108a683ebf4
URL:https://sweethearts.com.au/shows/queen-vic-summer-night-market/
DTSTART;TZID=GMT:20191204T083000
SUMMARY:Queen Vic Summer Night Market
LOCATION:Queen Victoria Market\, Queen Victoria Market\, Victoria St\, Melbourne\, Victoria\, 3000
END:VEVENT
END:VCALENDAR
