BEGIN:VCALENDAR
VERSION:2.0
PRODID:-//AudioTheme 2.0.1
BEGIN:VEVENT
UID:urn:uuid:ce667f7a-da5d-4e4a-8208-0956565994f9
URL:https://sweethearts.com.au/shows/soul-a-go-go-3/
DTSTART;TZID=GMT:20191005T000000
SUMMARY:Soul a Go Go
DESCRIPTION:Soul a Go Go
LOCATION:Workers Geelong\, 90-92 Little Malop Street\, Geelong\, Victoria\, Australia\, 3220
END:VEVENT
END:VCALENDAR
