BEGIN:VCALENDAR
VERSION:2.0
PRODID:-//AudioTheme 2.0.1
BEGIN:VEVENT
UID:urn:uuid:d9aad5e4-2cf6-414a-8c5e-1527768d9463
URL:https://sweethearts.com.au/shows/sweet-soul-sessions-4/
DTSTART;TZID=GMT:20191027T000000
SUMMARY:Sweet Soul Sessions
DESCRIPTION:Sweet Soul Sessions
LOCATION:Pistol Pete's Food N Blues\, 93 Little Malop St\, Geelong\, Victoria\, Australia\, 3220
END:VEVENT
END:VCALENDAR
