BEGIN:VCALENDAR
VERSION:2.0
PRODID:-//AudioTheme 2.0.1
BEGIN:VEVENT
UID:urn:uuid:92fb0e4f-4884-4af3-8949-64cf3a28323c
URL:https://sweethearts.com.au/shows/workers-soul-sessions-7/
DTSTART;TZID=GMT:20190620T000000
SUMMARY:Workers Soul Sessions
LOCATION:Workers Geelong\, 90-92 Little Malop Street\, Geelong\, Victoria\, Australia\, 3220
END:VEVENT
END:VCALENDAR
