BEGIN:VCALENDAR
VERSION:2.0
PRODID:-//AudioTheme 2.0.1
BEGIN:VEVENT
UID:urn:uuid:171edb0b-6bc5-4cce-bad6-5b8c73267dc5
URL:https://sweethearts.com.au/shows/workers-soul-sessions-8/
DTSTART;TZID=GMT:20190815T000000
SUMMARY:Workers Soul Sessions - That Gold Street Sound
LOCATION:Workers Geelong\, 90-92 Little Malop Street\, Geelong\, Victoria\, Australia\, 3220
END:VEVENT
END:VCALENDAR
